Package: xcore Version: 1.12.0 Command: /Library/Frameworks/R.framework/Resources/bin/R CMD build --keep-empty-dirs --no-resave-data xcore StartedAt: 2025-04-21 18:52:02 -0400 (Mon, 21 Apr 2025) EndedAt: 2025-04-21 18:53:40 -0400 (Mon, 21 Apr 2025) EllapsedTime: 98.1 seconds RetCode: 0 Status: OK PackageFile: xcore_1.12.0.tar.gz PackageFileSize: 2.407 MiB