Package: xcore Version: 1.12.0 Command: rm -rf xcore.buildbin-libdir && mkdir xcore.buildbin-libdir && /Users/biocbuild/BBS/utils/build-universal.sh xcore_1.12.0.tar.gz /Library/Frameworks/R.framework/Resources/bin/R xcore.buildbin-libdir StartedAt: 2025-04-21 22:56:49 -0400 (Mon, 21 Apr 2025) EndedAt: 2025-04-21 22:57:00 -0400 (Mon, 21 Apr 2025) EllapsedTime: 11.3 seconds RetCode: 0 Status: OK PackageFile: xcore_1.12.0.tgz PackageFileSize: 1.914 MiB