Package: xcore Version: 1.12.0 Command: /Library/Frameworks/R.framework/Resources/bin/R CMD INSTALL xcore StartedAt: 2025-10-06 16:19:14 -0400 (Mon, 06 Oct 2025) EndedAt: 2025-10-06 16:19:44 -0400 (Mon, 06 Oct 2025) EllapsedTime: 29.4 seconds RetCode: 0 Status: OK