Package: xcore Version: 1.12.0 Command: /Library/Frameworks/R.framework/Resources/bin/R CMD build --keep-empty-dirs --no-resave-data xcore StartedAt: 2025-10-07 12:34:18 -0400 (Tue, 07 Oct 2025) EndedAt: 2025-10-07 12:36:30 -0400 (Tue, 07 Oct 2025) EllapsedTime: 131.8 seconds RetCode: 0 Status: OK PackageFile: xcore_1.12.0.tar.gz PackageFileSize: 2.407 MiB