Package: xcore Version: 1.12.0 Command: rm -rf xcore.buildbin-libdir && mkdir xcore.buildbin-libdir && /Users/biocbuild/BBS/utils/build-universal.sh xcore_1.12.0.tar.gz /Library/Frameworks/R.framework/Resources/bin/R xcore.buildbin-libdir StartedAt: 2025-10-08 23:37:52 -0400 (Wed, 08 Oct 2025) EndedAt: 2025-10-08 23:38:26 -0400 (Wed, 08 Oct 2025) EllapsedTime: 34.0 seconds RetCode: 0 Status: OK PackageFile: xcore_1.12.0.tgz PackageFileSize: 1.911 MiB