Package: xcore Version: 1.12.0 Maintainer: Maciej MigdaƂ MaintainerEmail: mcjmigdal at gmail.com git_url: https://git.bioconductor.org/packages/xcore git_branch: RELEASE_3_21 git_last_commit: 3b17e08 git_last_commit_date: 2025-04-15 12:46:57 -0400 (Tue, 15 Apr 2025)