Package: xcms Version: 4.8.0 Command: /home/biocbuild/R/R/bin/R CMD INSTALL xcms StartedAt: 2025-11-10 21:52:24 -0000 (Mon, 10 Nov 2025) EndedAt: 2025-11-10 21:54:46 -0000 (Mon, 10 Nov 2025) EllapsedTime: 142.1 seconds RetCode: 0 Status: OK