Package: xcms Version: 4.8.0 Command: /home/biocbuild/R/R/bin/R CMD build --keep-empty-dirs --no-resave-data xcms StartedAt: 2025-11-11 06:14:17 -0000 (Tue, 11 Nov 2025) EndedAt: 2025-11-11 06:21:08 -0000 (Tue, 11 Nov 2025) EllapsedTime: 410.5 seconds RetCode: 0 Status: OK PackageFile: xcms_4.8.0.tar.gz PackageFileSize: 5.661 MiB