Package: xcms Version: 4.6.3 Command: chmod a+r xcms -R && E:\biocbuild\bbs-3.21-bioc\R\bin\R.exe CMD build --keep-empty-dirs --no-resave-data xcms StartedAt: 2025-08-14 22:59:05 -0400 (Thu, 14 Aug 2025) EndedAt: 2025-08-14 23:06:32 -0400 (Thu, 14 Aug 2025) EllapsedTime: 447.1 seconds RetCode: 0 Status: OK PackageFile: xcms_4.6.3.tar.gz PackageFileSize: 4.394 MiB