Package: xcms Version: 4.6.3 Command: rm -rf xcms.buildbin-libdir && mkdir xcms.buildbin-libdir && E:\biocbuild\bbs-3.21-bioc\R\bin\R.exe CMD INSTALL --build --library=xcms.buildbin-libdir xcms_4.6.3.tar.gz StartedAt: 2025-08-15 10:35:01 -0400 (Fri, 15 Aug 2025) EndedAt: 2025-08-15 10:37:52 -0400 (Fri, 15 Aug 2025) EllapsedTime: 170.6 seconds RetCode: 0 Status: OK PackageFile: xcms_4.6.3.zip PackageFileSize: 7.567 MiB