Package: xcms Version: 4.8.0 Command: /home/biocbuild/bbs-3.22-bioc/R/bin/R CMD check --install=check:xcms.install-out.txt --library=/home/biocbuild/bbs-3.22-bioc/R/site-library --timings xcms_4.8.0.tar.gz StartedAt: 2025-11-12 05:28:26 -0500 (Wed, 12 Nov 2025) EndedAt: 2025-11-12 05:55:01 -0500 (Wed, 12 Nov 2025) EllapsedTime: 1594.7 seconds RetCode: 0 Status: OK CheckDir: xcms.Rcheck Warnings: 0