Package: xcms Version: 4.8.0 Command: /home/biocbuild/bbs-3.22-bioc/R/bin/R CMD build --keep-empty-dirs --no-resave-data --md5 xcms StartedAt: 2025-11-11 20:55:58 -0500 (Tue, 11 Nov 2025) EndedAt: 2025-11-11 21:00:27 -0500 (Tue, 11 Nov 2025) EllapsedTime: 269.2 seconds RetCode: 0 Status: OK PackageFile: xcms_4.8.0.tar.gz PackageFileSize: 9.149 MiB