Package: xcms Version: 4.6.4 Command: /home/biocbuild/bbs-3.21-bioc/R/bin/R CMD INSTALL xcms StartedAt: 2025-09-28 15:51:51 -0400 (Sun, 28 Sep 2025) EndedAt: 2025-09-28 15:53:28 -0400 (Sun, 28 Sep 2025) EllapsedTime: 97.0 seconds RetCode: 0 Status: OK