Package: xcms Version: 4.6.4 Command: /home/biocbuild/bbs-3.21-bioc/R/bin/R CMD build --keep-empty-dirs --no-resave-data xcms StartedAt: 2025-09-28 20:44:34 -0400 (Sun, 28 Sep 2025) EndedAt: 2025-09-28 20:49:14 -0400 (Sun, 28 Sep 2025) EllapsedTime: 280.5 seconds RetCode: 0 Status: OK PackageFile: xcms_4.6.4.tar.gz PackageFileSize: 9.543 MiB