Package: xcms Version: 4.6.4 Command: rm -rf xcms.buildbin-libdir && mkdir xcms.buildbin-libdir && /Users/biocbuild/BBS/utils/build-universal.sh xcms_4.6.4.tar.gz /Library/Frameworks/R.framework/Resources/bin/R xcms.buildbin-libdir StartedAt: 2025-09-26 16:20:23 -0400 (Fri, 26 Sep 2025) EndedAt: 2025-09-26 16:23:15 -0400 (Fri, 26 Sep 2025) EllapsedTime: 172.0 seconds RetCode: 0 Status: OK PackageFile: xcms_4.6.4.tgz PackageFileSize: 12.19 MiB