Package: xcms Version: 4.6.0 Command: /Library/Frameworks/R.framework/Resources/bin/R CMD INSTALL xcms StartedAt: 2025-04-21 15:36:16 -0400 (Mon, 21 Apr 2025) EndedAt: 2025-04-21 15:36:18 -0400 (Mon, 21 Apr 2025) EllapsedTime: 2.1 seconds RetCode: 1 Status: ERROR