Package: xCell2 Version: 1.2.0 Command: /home/biocbuild/R/R/bin/R CMD INSTALL xCell2 StartedAt: 2025-11-13 21:38:56 -0000 (Thu, 13 Nov 2025) EndedAt: 2025-11-13 21:39:48 -0000 (Thu, 13 Nov 2025) EllapsedTime: 51.7 seconds RetCode: 0 Status: OK