Package: xCell2 Version: 1.2.0 Command: /home/biocbuild/bbs-3.22-bioc/R/bin/R CMD check --install=check:xCell2.install-out.txt --library=/home/biocbuild/bbs-3.22-bioc/R/site-library --timings xCell2_1.2.0.tar.gz StartedAt: 2025-11-12 05:28:12 -0500 (Wed, 12 Nov 2025) EndedAt: 2025-11-12 05:37:21 -0500 (Wed, 12 Nov 2025) EllapsedTime: 548.9 seconds RetCode: 0 Status: OK CheckDir: xCell2.Rcheck Warnings: 0