Package: xCell2 Version: 1.0.11 Command: /home/biocbuild/bbs-3.21-bioc/R/bin/R CMD INSTALL xCell2 StartedAt: 2025-10-12 15:29:36 -0400 (Sun, 12 Oct 2025) EndedAt: 2025-10-12 15:30:14 -0400 (Sun, 12 Oct 2025) EllapsedTime: 38.0 seconds RetCode: 0 Status: OK