Package: xCell2 Version: 1.0.11 Command: /home/biocbuild/bbs-3.21-bioc/R/bin/R CMD build --keep-empty-dirs --no-resave-data xCell2 StartedAt: 2025-10-15 20:32:26 -0400 (Wed, 15 Oct 2025) EndedAt: 2025-10-15 20:34:58 -0400 (Wed, 15 Oct 2025) EllapsedTime: 152.8 seconds RetCode: 0 Status: OK PackageFile: xCell2_1.0.11.tar.gz PackageFileSize: 3.108 MiB