Package: xCell2 Version: 1.0.11 Command: /Library/Frameworks/R.framework/Resources/bin/R CMD INSTALL xCell2 StartedAt: 2025-10-13 16:22:54 -0400 (Mon, 13 Oct 2025) EndedAt: 2025-10-13 16:23:42 -0400 (Mon, 13 Oct 2025) EllapsedTime: 47.3 seconds RetCode: 0 Status: OK