Package: xCell2 Version: 1.0.11 Command: /Library/Frameworks/R.framework/Resources/bin/R CMD build --keep-empty-dirs --no-resave-data xCell2 StartedAt: 2025-10-14 11:59:05 -0400 (Tue, 14 Oct 2025) EndedAt: 2025-10-14 12:02:00 -0400 (Tue, 14 Oct 2025) EllapsedTime: 174.8 seconds RetCode: 0 Status: OK PackageFile: xCell2_1.0.11.tar.gz PackageFileSize: 3.09 MiB