Package: xCell2 Version: 1.0.11 Command: rm -rf xCell2.buildbin-libdir && mkdir xCell2.buildbin-libdir && /Users/biocbuild/BBS/utils/build-universal.sh xCell2_1.0.11.tar.gz /Library/Frameworks/R.framework/Resources/bin/R xCell2.buildbin-libdir StartedAt: 2025-10-15 21:02:16 -0400 (Wed, 15 Oct 2025) EndedAt: 2025-10-15 21:03:04 -0400 (Wed, 15 Oct 2025) EllapsedTime: 47.6 seconds RetCode: 0 Status: OK PackageFile: xCell2_1.0.11.tgz PackageFileSize: 3.169 MiB