Package: wppi Version: 1.16.0 Command: /home/biocbuild/R/R/bin/R CMD INSTALL wppi StartedAt: 2025-10-13 20:20:25 -0000 (Mon, 13 Oct 2025) EndedAt: 2025-10-13 20:20:58 -0000 (Mon, 13 Oct 2025) EllapsedTime: 33.5 seconds RetCode: 0 Status: OK