Package: wppi Version: 1.16.0 Command: /home/biocbuild/R/R/bin/R CMD build --keep-empty-dirs --no-resave-data wppi StartedAt: 2025-10-14 05:44:30 -0000 (Tue, 14 Oct 2025) EndedAt: 2025-10-14 05:47:29 -0000 (Tue, 14 Oct 2025) EllapsedTime: 178.1 seconds RetCode: 0 Status: OK PackageFile: wppi_1.16.0.tar.gz PackageFileSize: 677.2 KiB