Package: wppi Version: 1.18.0 Command: /Library/Frameworks/R.framework/Resources/bin/R CMD build --keep-empty-dirs --no-resave-data wppi StartedAt: 2025-11-02 18:07:45 -0500 (Sun, 02 Nov 2025) EndedAt: 2025-11-02 18:08:48 -0500 (Sun, 02 Nov 2025) EllapsedTime: 62.6 seconds RetCode: 0 Status: OK PackageFile: wppi_1.18.0.tar.gz PackageFileSize: 647.2 KiB