Package: wppi Version: 1.18.0 Command: rm -rf wppi.buildbin-libdir && mkdir wppi.buildbin-libdir && /Users/biocbuild/BBS/utils/build-universal.sh wppi_1.18.0.tar.gz /Library/Frameworks/R.framework/Resources/bin/R wppi.buildbin-libdir StartedAt: 2025-10-31 23:28:03 -0400 (Fri, 31 Oct 2025) EndedAt: 2025-10-31 23:28:10 -0400 (Fri, 31 Oct 2025) EllapsedTime: 7.1 seconds RetCode: 0 Status: OK PackageFile: wppi_1.18.0.tgz PackageFileSize: 299.5 KiB