Package: wpm Version: 1.20.0 Command: /home/biocbuild/bbs-3.22-bioc/R/bin/R CMD check --install=check:wpm.install-out.txt --library=/home/biocbuild/bbs-3.22-bioc/R/site-library --timings wpm_1.20.0.tar.gz StartedAt: 2025-11-14 05:27:45 -0500 (Fri, 14 Nov 2025) EndedAt: 2025-11-14 05:29:00 -0500 (Fri, 14 Nov 2025) EllapsedTime: 75.1 seconds RetCode: 0 Status: OK CheckDir: wpm.Rcheck Warnings: 0