Package: wpm Version: 1.20.0 Command: /home/biocbuild/bbs-3.22-bioc/R/bin/R CMD build --keep-empty-dirs --no-resave-data --md5 wpm StartedAt: 2025-11-11 20:55:38 -0500 (Tue, 11 Nov 2025) EndedAt: 2025-11-11 20:55:58 -0500 (Tue, 11 Nov 2025) EllapsedTime: 20.0 seconds RetCode: 0 Status: OK PackageFile: wpm_1.20.0.tar.gz PackageFileSize: 2.417 MiB