Package: wpm Version: 1.18.0 Command: /home/biocbuild/bbs-3.21-bioc/R/bin/R CMD build --keep-empty-dirs --no-resave-data wpm StartedAt: 2025-10-15 20:32:12 -0400 (Wed, 15 Oct 2025) EndedAt: 2025-10-15 20:32:33 -0400 (Wed, 15 Oct 2025) EllapsedTime: 21.0 seconds RetCode: 0 Status: OK PackageFile: wpm_1.18.0.tar.gz PackageFileSize: 2.414 MiB