Package: wpm Version: 1.20.0 Command: /Library/Frameworks/R.framework/Resources/bin/R CMD INSTALL wpm StartedAt: 2025-11-02 15:30:12 -0500 (Sun, 02 Nov 2025) EndedAt: 2025-11-02 15:30:18 -0500 (Sun, 02 Nov 2025) EllapsedTime: 6.7 seconds RetCode: 0 Status: OK