Package: wpm Version: 1.20.0 Command: /Library/Frameworks/R.framework/Resources/bin/R CMD build --keep-empty-dirs --no-resave-data wpm StartedAt: 2025-11-02 19:16:53 -0500 (Sun, 02 Nov 2025) EndedAt: 2025-11-02 19:17:19 -0500 (Sun, 02 Nov 2025) EllapsedTime: 25.1 seconds RetCode: 0 Status: OK PackageFile: wpm_1.20.0.tar.gz PackageFileSize: 2.414 MiB