Package: wpm Version: 1.20.0 Command: rm -rf wpm.buildbin-libdir && mkdir wpm.buildbin-libdir && /Users/biocbuild/BBS/utils/build-universal.sh wpm_1.20.0.tar.gz /Library/Frameworks/R.framework/Resources/bin/R wpm.buildbin-libdir StartedAt: 2025-11-04 02:10:41 -0500 (Tue, 04 Nov 2025) EndedAt: 2025-11-04 02:10:49 -0500 (Tue, 04 Nov 2025) EllapsedTime: 8.1 seconds RetCode: 0 Status: OK PackageFile: wpm_1.20.0.tgz PackageFileSize: 1.929 MiB