Package: wpm Version: 1.18.0 Command: /home/biocbuild/R/R/bin/R CMD INSTALL wpm StartedAt: 2025-10-02 20:31:32 -0000 (Thu, 02 Oct 2025) EndedAt: 2025-10-02 20:31:37 -0000 (Thu, 02 Oct 2025) EllapsedTime: 4.3 seconds RetCode: 0 Status: OK