Package: wiggleplotr Version: 1.34.0 Command: /home/biocbuild/R/R/bin/R CMD check --install=check:wiggleplotr.install-out.txt --library=/home/biocbuild/R/R/site-library --no-vignettes --timings wiggleplotr_1.34.0.tar.gz StartedAt: 2025-11-11 16:18:30 -0000 (Tue, 11 Nov 2025) EndedAt: 2025-11-11 16:20:07 -0000 (Tue, 11 Nov 2025) EllapsedTime: 97.1 seconds RetCode: 0 Status: OK CheckDir: wiggleplotr.Rcheck Warnings: 0