Package: wiggleplotr Version: 1.34.0 Command: /home/biocbuild/R/R/bin/R CMD build --keep-empty-dirs --no-resave-data wiggleplotr StartedAt: 2025-11-11 06:13:33 -0000 (Tue, 11 Nov 2025) EndedAt: 2025-11-11 06:14:25 -0000 (Tue, 11 Nov 2025) EllapsedTime: 52.1 seconds RetCode: 0 Status: OK PackageFile: wiggleplotr_1.34.0.tar.gz PackageFileSize: 209.2 KiB