Package: wiggleplotr Version: 1.32.0 Command: chmod a+r wiggleplotr -R && E:\biocbuild\bbs-3.21-bioc\R\bin\R.exe CMD build --keep-empty-dirs --no-resave-data wiggleplotr StartedAt: 2025-08-14 22:58:22 -0400 (Thu, 14 Aug 2025) EndedAt: 2025-08-14 22:59:16 -0400 (Thu, 14 Aug 2025) EllapsedTime: 54.2 seconds RetCode: 0 Status: OK PackageFile: wiggleplotr_1.32.0.tar.gz PackageFileSize: 166.8 KiB