Package: wiggleplotr Version: 1.32.0 Command: rm -rf wiggleplotr.buildbin-libdir && mkdir wiggleplotr.buildbin-libdir && E:\biocbuild\bbs-3.21-bioc\R\bin\R.exe CMD INSTALL --build --library=wiggleplotr.buildbin-libdir wiggleplotr_1.32.0.tar.gz StartedAt: 2025-08-15 10:34:45 -0400 (Fri, 15 Aug 2025) EndedAt: 2025-08-15 10:34:58 -0400 (Fri, 15 Aug 2025) EllapsedTime: 13.7 seconds RetCode: 0 Status: OK PackageFile: wiggleplotr_1.32.0.zip PackageFileSize: 224.9 KiB