Package: wiggleplotr Version: 1.34.0 Command: /home/biocbuild/bbs-3.22-bioc/R/bin/R CMD INSTALL wiggleplotr StartedAt: 2025-11-11 15:31:07 -0500 (Tue, 11 Nov 2025) EndedAt: 2025-11-11 15:31:11 -0500 (Tue, 11 Nov 2025) EllapsedTime: 4.5 seconds RetCode: 0 Status: OK