Package: wiggleplotr Version: 1.34.0 Command: /home/biocbuild/bbs-3.22-bioc/R/bin/R CMD build --keep-empty-dirs --no-resave-data --md5 wiggleplotr StartedAt: 2025-11-11 20:55:33 -0500 (Tue, 11 Nov 2025) EndedAt: 2025-11-11 20:56:07 -0500 (Tue, 11 Nov 2025) EllapsedTime: 34.1 seconds RetCode: 0 Status: OK PackageFile: wiggleplotr_1.34.0.tar.gz PackageFileSize: 336.6 KiB