Package: wiggleplotr Version: 1.32.0 Command: /Library/Frameworks/R.framework/Resources/bin/R CMD INSTALL wiggleplotr StartedAt: 2025-10-13 15:49:32 -0400 (Mon, 13 Oct 2025) EndedAt: 2025-10-13 15:49:44 -0400 (Mon, 13 Oct 2025) EllapsedTime: 11.8 seconds RetCode: 0 Status: OK