Package: wiggleplotr Version: 1.32.0 Command: rm -rf wiggleplotr.buildbin-libdir && mkdir wiggleplotr.buildbin-libdir && /Users/biocbuild/BBS/utils/build-universal.sh wiggleplotr_1.32.0.tar.gz /Library/Frameworks/R.framework/Resources/bin/R wiggleplotr.buildbin-libdir StartedAt: 2025-09-05 16:29:46 -0400 (Fri, 05 Sep 2025) EndedAt: 2025-09-05 16:29:58 -0400 (Fri, 05 Sep 2025) EllapsedTime: 12.0 seconds RetCode: 0 Status: OK PackageFile: wiggleplotr_1.32.0.tgz PackageFileSize: 459.2 KiB