Package: wiggleplotr Version: 1.34.0 Command: /Library/Frameworks/R.framework/Resources/bin/R CMD INSTALL wiggleplotr StartedAt: 2025-11-03 15:34:19 -0500 (Mon, 03 Nov 2025) EndedAt: 2025-11-03 15:34:26 -0500 (Mon, 03 Nov 2025) EllapsedTime: 7.1 seconds RetCode: 0 Status: OK