Package: wiggleplotr Version: 1.34.0 Command: /Library/Frameworks/R.framework/Resources/bin/R CMD check --install=check:wiggleplotr.install-out.txt --library=/Library/Frameworks/R.framework/Resources/library --no-vignettes --timings wiggleplotr_1.34.0.tar.gz StartedAt: 2025-11-04 01:07:15 -0500 (Tue, 04 Nov 2025) EndedAt: 2025-11-04 01:08:51 -0500 (Tue, 04 Nov 2025) EllapsedTime: 95.4 seconds RetCode: 0 Status: OK CheckDir: wiggleplotr.Rcheck Warnings: 0