Package: wiggleplotr Version: 1.34.0 Command: /Library/Frameworks/R.framework/Resources/bin/R CMD build --keep-empty-dirs --no-resave-data wiggleplotr StartedAt: 2025-11-03 19:14:56 -0500 (Mon, 03 Nov 2025) EndedAt: 2025-11-03 19:15:43 -0500 (Mon, 03 Nov 2025) EllapsedTime: 46.9 seconds RetCode: 0 Status: OK PackageFile: wiggleplotr_1.34.0.tar.gz PackageFileSize: 402 KiB