Package: wiggleplotr Version: 1.34.0 Command: rm -rf wiggleplotr.buildbin-libdir && mkdir wiggleplotr.buildbin-libdir && /Users/biocbuild/BBS/utils/build-universal.sh wiggleplotr_1.34.0.tar.gz /Library/Frameworks/R.framework/Resources/bin/R wiggleplotr.buildbin-libdir StartedAt: 2025-11-04 02:10:40 -0500 (Tue, 04 Nov 2025) EndedAt: 2025-11-04 02:10:49 -0500 (Tue, 04 Nov 2025) EllapsedTime: 9.3 seconds RetCode: 0 Status: OK PackageFile: wiggleplotr_1.34.0.tgz PackageFileSize: 464.3 KiB