Package: wiggleplotr Version: 1.34.0 Command: /Library/Frameworks/R.framework/Resources/bin/R CMD INSTALL wiggleplotr StartedAt: 2025-11-10 15:16:24 -0500 (Mon, 10 Nov 2025) EndedAt: 2025-11-10 15:16:27 -0500 (Mon, 10 Nov 2025) EllapsedTime: 2.1 seconds RetCode: 0 Status: OK