Package: wiggleplotr Version: 1.34.0 Command: /Library/Frameworks/R.framework/Resources/bin/R CMD check --install=check:wiggleplotr.install-out.txt --library=/Library/Frameworks/R.framework/Resources/library --no-vignettes --timings wiggleplotr_1.34.0.tar.gz StartedAt: 2025-11-10 23:01:23 -0500 (Mon, 10 Nov 2025) EndedAt: 2025-11-10 23:01:57 -0500 (Mon, 10 Nov 2025) EllapsedTime: 34.4 seconds RetCode: 0 Status: OK CheckDir: wiggleplotr.Rcheck Warnings: 0