Package: wiggleplotr Version: 1.34.0 Command: rm -rf wiggleplotr.buildbin-libdir && mkdir wiggleplotr.buildbin-libdir && /Users/biocbuild/BBS/utils/build-universal.sh wiggleplotr_1.34.0.tar.gz /Library/Frameworks/R.framework/Resources/bin/R wiggleplotr.buildbin-libdir StartedAt: 2025-11-10 23:41:07 -0500 (Mon, 10 Nov 2025) EndedAt: 2025-11-10 23:41:10 -0500 (Mon, 10 Nov 2025) EllapsedTime: 3.1 seconds RetCode: 0 Status: OK PackageFile: wiggleplotr_1.34.0.tgz PackageFileSize: 466.7 KiB