Package: widgetTools Version: 1.88.0 Command: /home/biocbuild/R/R/bin/R CMD INSTALL widgetTools StartedAt: 2025-11-10 21:06:14 -0000 (Mon, 10 Nov 2025) EndedAt: 2025-11-10 21:06:57 -0000 (Mon, 10 Nov 2025) EllapsedTime: 42.3 seconds RetCode: 0 Status: OK